BEGIN:VCALENDAR
VERSION:2.0
PRODID:-//Crosspoint Bible Fellowship - ECPv5.1.4//NONSGML v1.0//EN
CALSCALE:GREGORIAN
METHOD:PUBLISH
X-WR-CALNAME:Crosspoint Bible Fellowship
X-ORIGINAL-URL:https://thecp.community
X-WR-CALDESC:Events for Crosspoint Bible Fellowship
BEGIN:VTIMEZONE
TZID:America/Chicago
BEGIN:DAYLIGHT
TZOFFSETFROM:-0600
TZOFFSETTO:-0500
TZNAME:CDT
DTSTART:20250309T080000
END:DAYLIGHT
BEGIN:STANDARD
TZOFFSETFROM:-0500
TZOFFSETTO:-0600
TZNAME:CST
DTSTART:20251102T070000
END:STANDARD
END:VTIMEZONE
BEGIN:VEVENT
DTSTART;TZID=America/Chicago:20250927T100000
DTEND;TZID=America/Chicago:20250927T130000
DTSTAMP:20260424T113713
CREATED:20250827T180407Z
LAST-MODIFIED:20250827T180526Z
UID:3402-1758967200-1758978000@thecp.community
SUMMARY:Food Pantry Community Distribution
DESCRIPTION:Every 4th Saturday of the month\, from 10 to 1. \n
URL:https://thecp.community/event/food-pantry-community-distribution/
END:VEVENT
END:VCALENDAR