BEGIN:VCALENDAR
VERSION:2.0
PRODID:-//Crosspoint Bible Fellowship - ECPv5.1.4//NONSGML v1.0//EN
CALSCALE:GREGORIAN
METHOD:PUBLISH
X-WR-CALNAME:Crosspoint Bible Fellowship
X-ORIGINAL-URL:https://thecp.community
X-WR-CALDESC:Events for Crosspoint Bible Fellowship
BEGIN:VTIMEZONE
TZID:America/Chicago
BEGIN:DAYLIGHT
TZOFFSETFROM:-0600
TZOFFSETTO:-0500
TZNAME:CDT
DTSTART:20250309T080000
END:DAYLIGHT
BEGIN:STANDARD
TZOFFSETFROM:-0500
TZOFFSETTO:-0600
TZNAME:CST
DTSTART:20251102T070000
END:STANDARD
END:VTIMEZONE
BEGIN:VEVENT
DTSTART;TZID=America/Chicago:20250831T093000
DTEND;TZID=America/Chicago:20250831T113000
DTSTAMP:20260424T113503
CREATED:20250824T224854Z
LAST-MODIFIED:20250824T224854Z
UID:3399-1756632600-1756639800@thecp.community
SUMMARY:Throwback Sunday Worship Service
DESCRIPTION:
URL:https://thecp.community/event/throwback-sunday-worship-service/
END:VEVENT
END:VCALENDAR