BEGIN:VCALENDAR
VERSION:2.0
PRODID:-//Crosspoint Bible Fellowship - ECPv5.1.4//NONSGML v1.0//EN
CALSCALE:GREGORIAN
METHOD:PUBLISH
X-WR-CALNAME:Crosspoint Bible Fellowship
X-ORIGINAL-URL:https://thecp.community
X-WR-CALDESC:Events for Crosspoint Bible Fellowship
BEGIN:VTIMEZONE
TZID:America/Chicago
BEGIN:DAYLIGHT
TZOFFSETFROM:-0600
TZOFFSETTO:-0500
TZNAME:CDT
DTSTART:20250309T080000
END:DAYLIGHT
BEGIN:STANDARD
TZOFFSETFROM:-0500
TZOFFSETTO:-0600
TZNAME:CST
DTSTART:20251102T070000
END:STANDARD
END:VTIMEZONE
BEGIN:VEVENT
DTSTART;TZID=America/Chicago:20250511T093000
DTEND;TZID=America/Chicago:20250511T113000
DTSTAMP:20260424T181305
CREATED:20240115T230939Z
LAST-MODIFIED:20250211T171818Z
UID:3028-1746955800-1746963000@thecp.community
SUMMARY:Mother's Day
DESCRIPTION:Honor thy Mother… as we Recognize and Celebrate all moms! \n
URL:https://thecp.community/event/mothers-day-2/
END:VEVENT
END:VCALENDAR