BEGIN:VCALENDAR
VERSION:2.0
PRODID:-//Crosspoint Bible Fellowship - ECPv5.1.4//NONSGML v1.0//EN
CALSCALE:GREGORIAN
METHOD:PUBLISH
X-WR-CALNAME:Crosspoint Bible Fellowship
X-ORIGINAL-URL:https://thecp.community
X-WR-CALDESC:Events for Crosspoint Bible Fellowship
BEGIN:VTIMEZONE
TZID:America/Chicago
BEGIN:DAYLIGHT
TZOFFSETFROM:-0600
TZOFFSETTO:-0500
TZNAME:CDT
DTSTART:20250309T080000
END:DAYLIGHT
BEGIN:STANDARD
TZOFFSETFROM:-0500
TZOFFSETTO:-0600
TZNAME:CST
DTSTART:20251102T070000
END:STANDARD
END:VTIMEZONE
BEGIN:VEVENT
DTSTART;TZID=America/Chicago:20250309T080000
DTEND;TZID=America/Chicago:20250309T170000
DTSTAMP:20260424T212842
CREATED:20230523T211923Z
LAST-MODIFIED:20250211T174020Z
UID:2261-1741507200-1741539600@thecp.community
SUMMARY:March Madness Sunday
DESCRIPTION:Please show your team spirit by wearing your favorite sports team jersey\, t-shirt\, or colors\, Thank you! \n
URL:https://thecp.community/event/march-madness-sunday/
END:VEVENT
END:VCALENDAR