BEGIN:VCALENDAR
VERSION:2.0
PRODID:-//Crosspoint Bible Fellowship - ECPv5.1.4//NONSGML v1.0//EN
CALSCALE:GREGORIAN
METHOD:PUBLISH
X-WR-CALNAME:Crosspoint Bible Fellowship
X-ORIGINAL-URL:https://thecp.community
X-WR-CALDESC:Events for Crosspoint Bible Fellowship
BEGIN:VTIMEZONE
TZID:UTC
BEGIN:STANDARD
TZOFFSETFROM:+0000
TZOFFSETTO:+0000
TZNAME:UTC
DTSTART:20250101T000000
END:STANDARD
TZID:America/Chicago
BEGIN:DAYLIGHT
TZOFFSETFROM:-0600
TZOFFSETTO:-0500
TZNAME:CDT
DTSTART:20250309T080000
END:DAYLIGHT
BEGIN:STANDARD
TZOFFSETFROM:-0500
TZOFFSETTO:-0600
TZNAME:CST
DTSTART:20251102T070000
END:STANDARD
END:VTIMEZONE
BEGIN:VEVENT
DTSTART;TZID=UTC:20250202T093000
DTEND;TZID=UTC:20250223T110000
DTSTAMP:20260424T231928
CREATED:20200218T110319Z
LAST-MODIFIED:20250211T172430Z
UID:972-1738488600-1740308400@thecp.community
SUMMARY:Recognizing Black History Month!
DESCRIPTION:In recognition of Black History Month\, wear your African attire all month long! \n
URL:https://thecp.community/event/recognizing-black-history-month/
CATEGORIES:Churchwide
END:VEVENT
BEGIN:VEVENT
DTSTART;TZID=America/Chicago:20250209T093000
DTEND;TZID=America/Chicago:20250209T113000
DTSTAMP:20260424T231928
CREATED:20240118T191207Z
LAST-MODIFIED:20250211T172459Z
UID:3116-1739093400-1739100600@thecp.community
SUMMARY:Go Red for Women
DESCRIPTION:2nd Sunday “Go Red for Women”\, wear red to raise awareness of heart disease and stroke in women. Choose a red shirt\, dress\, pants\, hat\, tie\, scarf\, or even socks. \n
URL:https://thecp.community/event/go-red-for-women/
END:VEVENT
END:VCALENDAR