BEGIN:VCALENDAR
VERSION:2.0
PRODID:-//Crosspoint Bible Fellowship - ECPv5.1.4//NONSGML v1.0//EN
CALSCALE:GREGORIAN
METHOD:PUBLISH
X-WR-CALNAME:Crosspoint Bible Fellowship
X-ORIGINAL-URL:https://thecp.community
X-WR-CALDESC:Events for Crosspoint Bible Fellowship
BEGIN:VTIMEZONE
TZID:America/Chicago
BEGIN:DAYLIGHT
TZOFFSETFROM:-0600
TZOFFSETTO:-0500
TZNAME:CDT
DTSTART:20240310T080000
END:DAYLIGHT
BEGIN:STANDARD
TZOFFSETFROM:-0500
TZOFFSETTO:-0600
TZNAME:CST
DTSTART:20241103T070000
END:STANDARD
END:VTIMEZONE
BEGIN:VEVENT
DTSTART;TZID=America/Chicago:20240616T093000
DTEND;TZID=America/Chicago:20240616T113000
DTSTAMP:20260425T130725
CREATED:20240115T231224Z
LAST-MODIFIED:20240115T231224Z
UID:3032-1718530200-1718537400@thecp.community
SUMMARY:Father's Day
DESCRIPTION:Join us Sunday as we Recognize and Celebrate the Men of God\, our Fathers’!   \n
URL:https://thecp.community/event/fathers-day-2/
END:VEVENT
END:VCALENDAR