BEGIN:VCALENDAR
VERSION:2.0
PRODID:-//Crosspoint Bible Fellowship - ECPv5.1.4//NONSGML v1.0//EN
CALSCALE:GREGORIAN
METHOD:PUBLISH
X-WR-CALNAME:Crosspoint Bible Fellowship
X-ORIGINAL-URL:https://thecp.community
X-WR-CALDESC:Events for Crosspoint Bible Fellowship
BEGIN:VTIMEZONE
TZID:America/Chicago
BEGIN:DAYLIGHT
TZOFFSETFROM:-0600
TZOFFSETTO:-0500
TZNAME:CDT
DTSTART:20240310T080000
END:DAYLIGHT
BEGIN:STANDARD
TZOFFSETFROM:-0500
TZOFFSETTO:-0600
TZNAME:CST
DTSTART:20241103T070000
END:STANDARD
END:VTIMEZONE
BEGIN:VEVENT
DTSTART;TZID=America/Chicago:20240421T093000
DTEND;TZID=America/Chicago:20240421T113000
DTSTAMP:20260425T161408
CREATED:20240115T225752Z
LAST-MODIFIED:20240115T225752Z
UID:3017-1713691800-1713699000@thecp.community
SUMMARY:Stress Awareness Sunday
DESCRIPTION:Invest in self-care with the best care concerning Stress by wearing Red.  Thank you! \n
URL:https://thecp.community/event/stress-awareness-sunday/
END:VEVENT
END:VCALENDAR