BEGIN:VCALENDAR
VERSION:2.0
PRODID:-//Crosspoint Bible Fellowship - ECPv5.1.4//NONSGML v1.0//EN
CALSCALE:GREGORIAN
METHOD:PUBLISH
X-WR-CALNAME:Crosspoint Bible Fellowship
X-ORIGINAL-URL:https://thecp.community
X-WR-CALDESC:Events for Crosspoint Bible Fellowship
BEGIN:VTIMEZONE
TZID:America/Chicago
BEGIN:DAYLIGHT
TZOFFSETFROM:-0600
TZOFFSETTO:-0500
TZNAME:CDT
DTSTART:20240310T080000
END:DAYLIGHT
BEGIN:STANDARD
TZOFFSETFROM:-0500
TZOFFSETTO:-0600
TZNAME:CST
DTSTART:20241103T070000
END:STANDARD
END:VTIMEZONE
BEGIN:VEVENT
DTSTART;TZID=America/Chicago:20240411T090000
DTEND;TZID=America/Chicago:20240413T130000
DTSTAMP:20260425T161416
CREATED:20240411T145114Z
LAST-MODIFIED:20240411T145123Z
UID:3279-1712826000-1713013200@thecp.community
SUMMARY:Food Pantry Grand Opening 9 to 1
DESCRIPTION:Crosspoint Food Pantry is Ready to feed Our Community! Come out Saturday April 13th\, from 9:00 a.m. to 1:00 p.m. \n
URL:https://thecp.community/event/food-pantry-grand-opening-9-to-1/
END:VEVENT
END:VCALENDAR