BEGIN:VCALENDAR
VERSION:2.0
PRODID:-//Crosspoint Bible Fellowship - ECPv5.1.4//NONSGML v1.0//EN
CALSCALE:GREGORIAN
METHOD:PUBLISH
X-WR-CALNAME:Crosspoint Bible Fellowship
X-ORIGINAL-URL:https://thecp.community
X-WR-CALDESC:Events for Crosspoint Bible Fellowship
BEGIN:VTIMEZONE
TZID:America/Chicago
BEGIN:DAYLIGHT
TZOFFSETFROM:-0600
TZOFFSETTO:-0500
TZNAME:CDT
DTSTART:20240310T080000
END:DAYLIGHT
BEGIN:STANDARD
TZOFFSETFROM:-0500
TZOFFSETTO:-0600
TZNAME:CST
DTSTART:20241103T070000
END:STANDARD
END:VTIMEZONE
BEGIN:VEVENT
DTSTART;TZID=America/Chicago:20240214T190000
DTEND;TZID=America/Chicago:20240214T200000
DTSTAMP:20260425T192614
CREATED:20240125T204225Z
LAST-MODIFIED:20240213T203136Z
UID:3126-1707937200-1707940800@thecp.community
SUMMARY:Happy Valentines Day
DESCRIPTION:Bible Study and Crosspoint Fitness will be canceled today to observe Valentine’s Day.  \n  \n
URL:https://thecp.community/event/bible-study-4/
END:VEVENT
END:VCALENDAR