BEGIN:VCALENDAR
VERSION:2.0
PRODID:-//Crosspoint Bible Fellowship - ECPv5.1.4//NONSGML v1.0//EN
CALSCALE:GREGORIAN
METHOD:PUBLISH
X-WR-CALNAME:Crosspoint Bible Fellowship
X-ORIGINAL-URL:https://thecp.community
X-WR-CALDESC:Events for Crosspoint Bible Fellowship
BEGIN:VTIMEZONE
TZID:America/Chicago
BEGIN:DAYLIGHT
TZOFFSETFROM:-0600
TZOFFSETTO:-0500
TZNAME:CDT
DTSTART:20240310T080000
END:DAYLIGHT
BEGIN:STANDARD
TZOFFSETFROM:-0500
TZOFFSETTO:-0600
TZNAME:CST
DTSTART:20241103T070000
END:STANDARD
END:VTIMEZONE
BEGIN:VEVENT
DTSTART;TZID=America/Chicago:20240115T080000
DTEND;TZID=America/Chicago:20240115T170000
DTSTAMP:20260425T210227
CREATED:20240115T235948Z
LAST-MODIFIED:20240115T235948Z
UID:3063-1705305600-1705338000@thecp.community
SUMMARY:Breast Cancer Awareness Month
DESCRIPTION:Show your support for Breast Cancer as we recognize this disease by wearing the color Pink! \n
URL:https://thecp.community/event/breast-cancer-awareness-month/
END:VEVENT
BEGIN:VEVENT
DTSTART;TZID=America/Chicago:20240115T090000
DTEND;TZID=America/Chicago:20240115T113000
DTSTAMP:20260425T210227
CREATED:20240115T223317Z
LAST-MODIFIED:20240115T223317Z
UID:2999-1705309200-1705318200@thecp.community
SUMMARY:Martin Luther King Day
DESCRIPTION:Act! A Day On\, Not A Day Off!” It calls upon Americans to engage in public service and promote peaceful social change. Let Freedom Ring!  \n
URL:https://thecp.community/event/martin-luther-king-day/
END:VEVENT
END:VCALENDAR