BEGIN:VCALENDAR
VERSION:2.0
PRODID:-//Crosspoint Bible Fellowship - ECPv5.1.4//NONSGML v1.0//EN
CALSCALE:GREGORIAN
METHOD:PUBLISH
X-WR-CALNAME:Crosspoint Bible Fellowship
X-ORIGINAL-URL:https://thecp.community
X-WR-CALDESC:Events for Crosspoint Bible Fellowship
BEGIN:VTIMEZONE
TZID:America/Chicago
BEGIN:DAYLIGHT
TZOFFSETFROM:-0600
TZOFFSETTO:-0500
TZNAME:CDT
DTSTART:20240310T080000
END:DAYLIGHT
BEGIN:STANDARD
TZOFFSETFROM:-0500
TZOFFSETTO:-0600
TZNAME:CST
DTSTART:20241103T070000
END:STANDARD
END:VTIMEZONE
BEGIN:VEVENT
DTSTART;TZID=America/Chicago:20240104T120000
DTEND;TZID=America/Chicago:20240104T123000
DTSTAMP:20260425T210106
CREATED:20231102T172418Z
LAST-MODIFIED:20231102T172418Z
UID:2871-1704369600-1704371400@thecp.community
SUMMARY:Weekly Prayer Call
DESCRIPTION:Please join us for weekly prayer via Zoom! \nCrosspoint  Bible Fellowship Church is inviting you to a scheduled Zoom meeting. \nTopic: Crosspoint Prayer Meeting Time\nTime: This is a recurring meeting every Thursday @ Noon \nJoin Zoom Meeting\nhttps://us02web.zoom.us/j/7028907854?pwd=VCttY29DVnJ4UUFqcWtORTJtVHdqUT09 \nMeeting ID: 702 890 7854\nPasscode: 0xRpR1 \n
URL:https://thecp.community/event/weekly-prayer-call-11/
END:VEVENT
END:VCALENDAR