BEGIN:VCALENDAR
VERSION:2.0
PRODID:-//Crosspoint Bible Fellowship - ECPv5.1.4//NONSGML v1.0//EN
CALSCALE:GREGORIAN
METHOD:PUBLISH
X-WR-CALNAME:Crosspoint Bible Fellowship
X-ORIGINAL-URL:https://thecp.community
X-WR-CALDESC:Events for Crosspoint Bible Fellowship
BEGIN:VTIMEZONE
TZID:America/Chicago
BEGIN:DAYLIGHT
TZOFFSETFROM:-0600
TZOFFSETTO:-0500
TZNAME:CDT
DTSTART:20230312T080000
END:DAYLIGHT
BEGIN:STANDARD
TZOFFSETFROM:-0500
TZOFFSETTO:-0600
TZNAME:CST
DTSTART:20231105T070000
END:STANDARD
END:VTIMEZONE
BEGIN:VEVENT
DTSTART;TZID=America/Chicago:20231111T100000
DTEND;TZID=America/Chicago:20231111T120000
DTSTAMP:20260426T012907
CREATED:20230523T205733Z
LAST-MODIFIED:20230523T205733Z
UID:2242-1699696800-1699704000@thecp.community
SUMMARY:Women's Fellowship
DESCRIPTION:Women’s Fellowship every 2nd Saturday of the month from 10:00 to 12 noon in the CE Building. Please join us for food\, fellowship\, and fun! \n
URL:https://thecp.community/event/womens-fellowship-28/
END:VEVENT
END:VCALENDAR