BEGIN:VCALENDAR
VERSION:2.0
PRODID:-//Crosspoint Bible Fellowship - ECPv5.1.4//NONSGML v1.0//EN
CALSCALE:GREGORIAN
METHOD:PUBLISH
X-WR-CALNAME:Crosspoint Bible Fellowship
X-ORIGINAL-URL:https://thecp.community
X-WR-CALDESC:Events for Crosspoint Bible Fellowship
BEGIN:VTIMEZONE
TZID:America/Chicago
BEGIN:DAYLIGHT
TZOFFSETFROM:-0600
TZOFFSETTO:-0500
TZNAME:CDT
DTSTART:20230312T080000
END:DAYLIGHT
BEGIN:STANDARD
TZOFFSETFROM:-0500
TZOFFSETTO:-0600
TZNAME:CST
DTSTART:20231105T070000
END:STANDARD
END:VTIMEZONE
BEGIN:VEVENT
DTSTART;TZID=America/Chicago:20231001T093000
DTEND;TZID=America/Chicago:20231029T113000
DTSTAMP:20260426T012620
CREATED:20230523T215657Z
LAST-MODIFIED:20231005T162951Z
UID:2293-1696152600-1698579000@thecp.community
SUMMARY:October is Clergy Month
DESCRIPTION:Please show your appreciation for our Senior Pastor and the pastoral team each Sunday by placing gifts of love in their baskets in the foyer. Thank you! \n
URL:https://thecp.community/event/clergy-month/
END:VEVENT
BEGIN:VEVENT
DTSTART;TZID=America/Chicago:20231019T120000
DTEND;TZID=America/Chicago:20231019T123000
DTSTAMP:20260426T012620
CREATED:20231010T135435Z
LAST-MODIFIED:20231010T135435Z
UID:2758-1697716800-1697718600@thecp.community
SUMMARY:Weekly Prayer Call
DESCRIPTION:Please join us each week at noon for prayer via Zoom link below! \nCrosspoint  Bible Fellowship Church is inviting you to a scheduled Zoom meeting. \nTopic: Crosspoint Prayer Meeting Time\nTime: This is a recurring meeting every Thursday @ Noon \nJoin Zoom Meeting\nhttps://us02web.zoom.us/j/7028907854?pwd=VCttY29DVnJ4UUFqcWtORTJtVHdqUT09 \nMeeting ID: 702 890 7854\nPasscode: 0xRpR1 \n
URL:https://thecp.community/event/weekly-prayer-call/
END:VEVENT
END:VCALENDAR