BEGIN:VCALENDAR
VERSION:2.0
PRODID:-//Crosspoint Bible Fellowship - ECPv5.1.4//NONSGML v1.0//EN
CALSCALE:GREGORIAN
METHOD:PUBLISH
X-WR-CALNAME:Crosspoint Bible Fellowship
X-ORIGINAL-URL:https://thecp.community
X-WR-CALDESC:Events for Crosspoint Bible Fellowship
BEGIN:VTIMEZONE
TZID:America/Chicago
BEGIN:DAYLIGHT
TZOFFSETFROM:-0600
TZOFFSETTO:-0500
TZNAME:CDT
DTSTART:20250309T080000
END:DAYLIGHT
BEGIN:STANDARD
TZOFFSETFROM:-0500
TZOFFSETTO:-0600
TZNAME:CST
DTSTART:20251102T070000
END:STANDARD
END:VTIMEZONE
BEGIN:VEVENT
DTSTART;TZID=America/Chicago:20250803T113000
DTEND;TZID=America/Chicago:20250803T123000
DTSTAMP:20260424T144805
CREATED:20230523T204413Z
LAST-MODIFIED:20250211T173335Z
UID:2208-1754220600-1754224200@thecp.community
SUMMARY:Small Group Summer Break Month
DESCRIPTION:We will not have Small Group during the month of August\, we will resume September 3rd.  Thank you! \n
URL:https://thecp.community/event/small-group-summer-break-month-2/
END:VEVENT
END:VCALENDAR