BEGIN:VCALENDAR
VERSION:2.0
PRODID:-//Crosspoint Bible Fellowship - ECPv5.1.4//NONSGML v1.0//EN
CALSCALE:GREGORIAN
METHOD:PUBLISH
X-WR-CALNAME:Crosspoint Bible Fellowship
X-ORIGINAL-URL:https://thecp.community
X-WR-CALDESC:Events for Crosspoint Bible Fellowship
BEGIN:VTIMEZONE
TZID:America/Chicago
BEGIN:DAYLIGHT
TZOFFSETFROM:-0600
TZOFFSETTO:-0500
TZNAME:CDT
DTSTART:20230312T080000
END:DAYLIGHT
BEGIN:STANDARD
TZOFFSETFROM:-0500
TZOFFSETTO:-0600
TZNAME:CST
DTSTART:20231105T070000
END:STANDARD
END:VTIMEZONE
BEGIN:VEVENT
DTSTART;TZID=America/Chicago:20230903T090000
DTEND;TZID=America/Chicago:20230903T113000
DTSTAMP:20260426T024825
CREATED:20230822T174826Z
LAST-MODIFIED:20230822T174833Z
UID:2673-1693731600-1693740600@thecp.community
SUMMARY:Prayer Ministry Launch Sunday
DESCRIPTION: \n
URL:https://thecp.community/event/prayer-ministry-launch-sunday/
END:VEVENT
END:VCALENDAR