BEGIN:VCALENDAR
VERSION:2.0
PRODID:-//Crosspoint Bible Fellowship - ECPv5.1.4//NONSGML v1.0//EN
CALSCALE:GREGORIAN
METHOD:PUBLISH
X-WR-CALNAME:Crosspoint Bible Fellowship
X-ORIGINAL-URL:https://thecp.community
X-WR-CALDESC:Events for Crosspoint Bible Fellowship
BEGIN:VTIMEZONE
TZID:America/Chicago
BEGIN:DAYLIGHT
TZOFFSETFROM:-0600
TZOFFSETTO:-0500
TZNAME:CDT
DTSTART:20230312T080000
END:DAYLIGHT
BEGIN:STANDARD
TZOFFSETFROM:-0500
TZOFFSETTO:-0600
TZNAME:CST
DTSTART:20231105T070000
END:STANDARD
END:VTIMEZONE
BEGIN:VEVENT
DTSTART;TZID=America/Chicago:20230806T080000
DTEND;TZID=America/Chicago:20230806T170000
DTSTAMP:20260426T041307
CREATED:20230523T213956Z
LAST-MODIFIED:20230523T214215Z
UID:2274-1691308800-1691341200@thecp.community
SUMMARY:National Eye Exam Month (PSA)
DESCRIPTION:Please be sure to get your eyes checked annually to prevent eye disease. \n
URL:https://thecp.community/event/national-eye-exam-month/
END:VEVENT
END:VCALENDAR