BEGIN:VCALENDAR
VERSION:2.0
PRODID:-//Crosspoint Bible Fellowship - ECPv5.1.4//NONSGML v1.0//EN
CALSCALE:GREGORIAN
METHOD:PUBLISH
X-WR-CALNAME:Crosspoint Bible Fellowship
X-ORIGINAL-URL:https://thecp.community
X-WR-CALDESC:Events for Crosspoint Bible Fellowship
BEGIN:VTIMEZONE
TZID:America/Chicago
BEGIN:DAYLIGHT
TZOFFSETFROM:-0600
TZOFFSETTO:-0500
TZNAME:CDT
DTSTART:20240310T080000
END:DAYLIGHT
BEGIN:STANDARD
TZOFFSETFROM:-0500
TZOFFSETTO:-0600
TZNAME:CST
DTSTART:20241103T070000
END:STANDARD
END:VTIMEZONE
BEGIN:VEVENT
DTSTART;TZID=America/Chicago:20240915T093000
DTEND;TZID=America/Chicago:20240915T113000
DTSTAMP:20260425T024054
CREATED:20240115T235359Z
LAST-MODIFIED:20240115T235359Z
UID:3055-1726392600-1726399800@thecp.community
SUMMARY:Hispanic Heritage Month
DESCRIPTION:Each year in September we celebrate the histories\, cultures\, and contributions of American citizens whose ancestors came from Spain\, Mexico\, the Caribbean\, and Central and South America. \n
URL:https://thecp.community/event/hispanic-heritage-month-2/
END:VEVENT
END:VCALENDAR