BEGIN:VCALENDAR
VERSION:2.0
PRODID:-//Crosspoint Bible Fellowship - ECPv5.1.4//NONSGML v1.0//EN
CALSCALE:GREGORIAN
METHOD:PUBLISH
X-WR-CALNAME:Crosspoint Bible Fellowship
X-ORIGINAL-URL:https://thecp.community
X-WR-CALDESC:Events for Crosspoint Bible Fellowship
BEGIN:VTIMEZONE
TZID:America/Chicago
BEGIN:DAYLIGHT
TZOFFSETFROM:-0600
TZOFFSETTO:-0500
TZNAME:CDT
DTSTART:20230312T080000
END:DAYLIGHT
BEGIN:STANDARD
TZOFFSETFROM:-0500
TZOFFSETTO:-0600
TZNAME:CST
DTSTART:20231105T070000
END:STANDARD
END:VTIMEZONE
BEGIN:VEVENT
DTSTART;TZID=America/Chicago:20231210T093000
DTEND;TZID=America/Chicago:20231210T113000
DTSTAMP:20260425T223341
CREATED:20231114T004122Z
LAST-MODIFIED:20231205T225008Z
UID:2955-1702200600-1702207800@thecp.community
SUMMARY:Festive and Ugly Sweater Sunday!
DESCRIPTION:It’s that time to show off your best Festive or Ugly Christmas Sweater! \n
URL:https://thecp.community/event/festive-and-ugly-sweater-sunday/
END:VEVENT
END:VCALENDAR