BEGIN:VCALENDAR
VERSION:2.0
PRODID:-//Crosspoint Bible Fellowship - ECPv5.1.4//NONSGML v1.0//EN
CALSCALE:GREGORIAN
METHOD:PUBLISH
X-WR-CALNAME:Crosspoint Bible Fellowship
X-ORIGINAL-URL:https://thecp.community
X-WR-CALDESC:Events for Crosspoint Bible Fellowship
BEGIN:VTIMEZONE
TZID:America/Chicago
BEGIN:DAYLIGHT
TZOFFSETFROM:-0600
TZOFFSETTO:-0500
TZNAME:CDT
DTSTART:20250309T080000
END:DAYLIGHT
BEGIN:STANDARD
TZOFFSETFROM:-0500
TZOFFSETTO:-0600
TZNAME:CST
DTSTART:20251102T070000
END:STANDARD
END:VTIMEZONE
BEGIN:VEVENT
DTSTART;TZID=America/Chicago:20251012T093000
DTEND;TZID=America/Chicago:20251012T113000
DTSTAMP:20260424T100659
CREATED:20240115T235854Z
LAST-MODIFIED:20250211T171008Z
UID:3061-1760261400-1760268600@thecp.community
SUMMARY:Domestic Violence Awareness Month
DESCRIPTION:Show your support for those affected by Domestic Violence by wearing Purple. \n
URL:https://thecp.community/event/domestic-violence-awareness-month/
END:VEVENT
END:VCALENDAR