BEGIN:VCALENDAR
VERSION:2.0
PRODID:-//Crosspoint Bible Fellowship - ECPv5.1.4//NONSGML v1.0//EN
CALSCALE:GREGORIAN
METHOD:PUBLISH
X-WR-CALNAME:Crosspoint Bible Fellowship
X-ORIGINAL-URL:https://thecp.community
X-WR-CALDESC:Events for Crosspoint Bible Fellowship
BEGIN:VTIMEZONE
TZID:America/Chicago
BEGIN:DAYLIGHT
TZOFFSETFROM:-0600
TZOFFSETTO:-0500
TZNAME:CDT
DTSTART:20240310T080000
END:DAYLIGHT
BEGIN:STANDARD
TZOFFSETFROM:-0500
TZOFFSETTO:-0600
TZNAME:CST
DTSTART:20241103T070000
END:STANDARD
END:VTIMEZONE
BEGIN:VEVENT
DTSTART;TZID=America/Chicago:20240505T093000
DTEND;TZID=America/Chicago:20240505T113000
DTSTAMP:20260425T142702
CREATED:20240115T230636Z
LAST-MODIFIED:20240115T230641Z
UID:3024-1714901400-1714908600@thecp.community
SUMMARY:Cinco de Mayo
DESCRIPTION:Cinco de Mayo is celebrated on May 5 because it recognizes the day in 1862 when Mexico’s army defeated France in the Battle of Puebla during the Franco-Mexican War. It’s also known as the Battle of Puebla Day.  \n
URL:https://thecp.community/event/cinco-de-mayo/
END:VEVENT
END:VCALENDAR