BEGIN:VCALENDAR
VERSION:2.0
PRODID:-//Crosspoint Bible Fellowship - ECPv5.1.4//NONSGML v1.0//EN
CALSCALE:GREGORIAN
METHOD:PUBLISH
X-WR-CALNAME:Crosspoint Bible Fellowship
X-ORIGINAL-URL:https://thecp.community
X-WR-CALDESC:Events for Crosspoint Bible Fellowship
BEGIN:VTIMEZONE
TZID:America/Chicago
BEGIN:DAYLIGHT
TZOFFSETFROM:-0600
TZOFFSETTO:-0500
TZNAME:CDT
DTSTART:20230312T080000
END:DAYLIGHT
BEGIN:STANDARD
TZOFFSETFROM:-0500
TZOFFSETTO:-0600
TZNAME:CST
DTSTART:20231105T070000
END:STANDARD
END:VTIMEZONE
BEGIN:VEVENT
DTSTART;TZID=America/Chicago:20230813T080000
DTEND;TZID=America/Chicago:20230813T170000
DTSTAMP:20260426T040725
CREATED:20230626T025127Z
LAST-MODIFIED:20230626T025127Z
UID:2335-1691913600-1691946000@thecp.community
SUMMARY:Camo Sunday
DESCRIPTION:Wear your camouflage gear Sunday! \n
URL:https://thecp.community/event/camo-sunday/
END:VEVENT
END:VCALENDAR